BEGIN:VCALENDAR
VERSION:2.0
PRODID:-//Gemeinde Inwil//NONSGML kigkonsult.se iCalcreator 2.16.12//
METHOD:PUBLISH
X-MS-OLK-FORCEINSPECTOROPEN:TRUE
BEGIN:VEVENT
UID:20260420T235107CEST-2229rsHauu@Gemeinde Inwil
DTSTAMP:20260420T215107Z
DESCRIPTION:
DTSTART:20210506T000000
DTEND:20210506T235900
LOCATION:Sihlwald
ORGANIZER:MAILTO:Gemeinde Inwil <info@inwil.ch>
SUMMARY:Wanderung Sihlwald
END:VEVENT
END:VCALENDAR
