BEGIN:VCALENDAR
VERSION:2.0
PRODID:-//Gemeinde Inwil//NONSGML kigkonsult.se iCalcreator 2.16.12//
METHOD:PUBLISH
X-MS-OLK-FORCEINSPECTOROPEN:TRUE
BEGIN:VEVENT
UID:20260419T221707CEST-1767czzTfl@Gemeinde Inwil
DTSTAMP:20260419T201707Z
DESCRIPTION:Rückgabe Taufblüten mit Apéro
DTSTART:20210508T000000
DTEND:20210508T235900
LOCATION:Pfarreigebäude Inwil
ORGANIZER:MAILTO:Gemeinde Inwil <info@inwil.ch>
SUMMARY:Taufeltern-Treff
END:VEVENT
END:VCALENDAR
