BEGIN:VCALENDAR
VERSION:2.0
PRODID:-//Gemeinde Inwil//NONSGML kigkonsult.se iCalcreator 2.16.12//
METHOD:PUBLISH
X-MS-OLK-FORCEINSPECTOROPEN:TRUE
BEGIN:VEVENT
UID:20260420T034614CEST-8590MSVrRU@Gemeinde Inwil
DTSTAMP:20260420T014614Z
DESCRIPTION:
DTSTART:20160326T010000
DTEND:20160327T005900
LOCATION:Kirche
ORGANIZER:MAILTO:Gemeinde Inwil <info@inwil.ch>
SUMMARY:Singen im Osternachtsgottesdienst
END:VEVENT
END:VCALENDAR
