BEGIN:VCALENDAR
VERSION:2.0
PRODID:-//Gemeinde Inwil//NONSGML kigkonsult.se iCalcreator 2.16.12//
METHOD:PUBLISH
X-MS-OLK-FORCEINSPECTOROPEN:TRUE
BEGIN:VEVENT
UID:20260420T034328CEST-0384gNCnTj@Gemeinde Inwil
DTSTAMP:20260420T014328Z
DESCRIPTION:
DTSTART:20160323T010000
DTEND:20160324T005900
LOCATION:Gärtnerei Schwitter
ORGANIZER:MAILTO:Gemeinde Inwil <info@inwil.ch>
SUMMARY:Frühlingserwachen 
END:VEVENT
END:VCALENDAR
