BEGIN:VCALENDAR
VERSION:2.0
PRODID:-//Gemeinde Inwil//NONSGML kigkonsult.se iCalcreator 2.16.12//
METHOD:PUBLISH
X-MS-OLK-FORCEINSPECTOROPEN:TRUE
BEGIN:VEVENT
UID:20260420T014049CEST-8275oDjUug@Gemeinde Inwil
DTSTAMP:20260419T234049Z
DESCRIPTION:
DTSTART:20260505T193000
DTEND:20260505T210000
ORGANIZER:MAILTO:Gemeinde Inwil <info@inwil.ch>
SUMMARY:Parteiversammlung FDP
END:VEVENT
END:VCALENDAR
