BEGIN:VCALENDAR
VERSION:2.0
PRODID:-//Gemeinde Inwil//NONSGML kigkonsult.se iCalcreator 2.16.12//
METHOD:PUBLISH
X-MS-OLK-FORCEINSPECTOROPEN:TRUE
BEGIN:VEVENT
UID:20260420T034107CEST-9203AEm7DX@Gemeinde Inwil
DTSTAMP:20260420T014107Z
DESCRIPTION:
DTSTART:20160323T010000
DTEND:20160324T005900
LOCATION:Rägeboge
ORGANIZER:MAILTO:Gemeinde Inwil <info@inwil.ch>
SUMMARY:IC-Meisterschaft\, 2. Liga
END:VEVENT
END:VCALENDAR
