BEGIN:VCALENDAR
VERSION:2.0
PRODID:-//Gemeinde Inwil//NONSGML kigkonsult.se iCalcreator 2.16.12//
METHOD:PUBLISH
X-MS-OLK-FORCEINSPECTOROPEN:TRUE
BEGIN:VEVENT
UID:20260420T034301CEST-7252GWJDsK@Gemeinde Inwil
DTSTAMP:20260420T014301Z
DESCRIPTION:
DTSTART:20160320T010000
DTEND:20160321T005900
LOCATION:Kirche
ORGANIZER:MAILTO:Gemeinde Inwil <info@inwil.ch>
SUMMARY:Singen im Gottesdienst
END:VEVENT
END:VCALENDAR
