BEGIN:VCALENDAR
VERSION:2.0
PRODID:-//Gemeinde Inwil//NONSGML kigkonsult.se iCalcreator 2.16.12//
METHOD:PUBLISH
X-MS-OLK-FORCEINSPECTOROPEN:TRUE
BEGIN:VEVENT
UID:20260420T034409CEST-0595fwW1uh@Gemeinde Inwil
DTSTAMP:20260420T014409Z
DESCRIPTION:Informationen zur Dörflifasnacht\n
DTSTART:20160207T010000
DTEND:20160208T005900
ORGANIZER:MAILTO:Gemeinde Inwil <info@inwil.ch>
SUMMARY:Eibeler Dörflifasnacht
END:VEVENT
END:VCALENDAR
